BEGIN:VCALENDAR
VERSION:2.0
PRODID:-//KGS Wichlinghauser Straße - ECPv6.15.20//NONSGML v1.0//EN
CALSCALE:GREGORIAN
METHOD:PUBLISH
X-ORIGINAL-URL:https://kgs-wichlinghauser-strasse.de
X-WR-CALDESC:Veranstaltungen für KGS Wichlinghauser Straße
REFRESH-INTERVAL;VALUE=DURATION:PT1H
X-Robots-Tag:noindex
X-PUBLISHED-TTL:PT1H
BEGIN:VTIMEZONE
TZID:Europe/Berlin
BEGIN:DAYLIGHT
TZOFFSETFROM:+0100
TZOFFSETTO:+0200
TZNAME:CEST
DTSTART:20230326T010000
END:DAYLIGHT
BEGIN:STANDARD
TZOFFSETFROM:+0200
TZOFFSETTO:+0100
TZNAME:CET
DTSTART:20231029T010000
END:STANDARD
BEGIN:DAYLIGHT
TZOFFSETFROM:+0100
TZOFFSETTO:+0200
TZNAME:CEST
DTSTART:20240331T010000
END:DAYLIGHT
BEGIN:STANDARD
TZOFFSETFROM:+0200
TZOFFSETTO:+0100
TZNAME:CET
DTSTART:20241027T010000
END:STANDARD
BEGIN:DAYLIGHT
TZOFFSETFROM:+0100
TZOFFSETTO:+0200
TZNAME:CEST
DTSTART:20250330T010000
END:DAYLIGHT
BEGIN:STANDARD
TZOFFSETFROM:+0200
TZOFFSETTO:+0100
TZNAME:CET
DTSTART:20251026T010000
END:STANDARD
END:VTIMEZONE
BEGIN:VEVENT
DTSTART;VALUE=DATE:20240129
DTEND;VALUE=DATE:20240217
DTSTAMP:20260422T192655
CREATED:20240123T110906Z
LAST-MODIFIED:20240123T110906Z
UID:3529-1706486400-1708127999@kgs-wichlinghauser-strasse.de
SUMMARY:Besuch der "Zahnfee" vom AK Zahngesundheit (alle Klassen)
DESCRIPTION:
URL:https://kgs-wichlinghauser-strasse.de/events/besuch-der-zahnfee-vom-ak-zahngesundheit-alle-klassen
CATEGORIES:Termin
END:VEVENT
BEGIN:VEVENT
DTSTART;VALUE=DATE:20240209
DTEND;VALUE=DATE:20240210
DTSTAMP:20260422T192655
CREATED:20231202T135538Z
LAST-MODIFIED:20231202T135538Z
UID:3426-1707436800-1707523199@kgs-wichlinghauser-strasse.de
SUMMARY:Karneval in der Schule
DESCRIPTION:
URL:https://kgs-wichlinghauser-strasse.de/events/karneval-in-der-schule-3
CATEGORIES:Veranstaltung
END:VEVENT
BEGIN:VEVENT
DTSTART;VALUE=DATE:20240212
DTEND;VALUE=DATE:20240213
DTSTAMP:20260422T192655
CREATED:20230612T081343Z
LAST-MODIFIED:20230612T081343Z
UID:3032-1707696000-1707782399@kgs-wichlinghauser-strasse.de
SUMMARY:Rosenmontag (unterrichtsfrei)
DESCRIPTION:
URL:https://kgs-wichlinghauser-strasse.de/events/rosenmontag-unterrichtsfrei-2
CATEGORIES:unterrichtsfrei
END:VEVENT
BEGIN:VEVENT
DTSTART;VALUE=DATE:20240213
DTEND;VALUE=DATE:20240214
DTSTAMP:20260422T192655
CREATED:20230612T081401Z
LAST-MODIFIED:20230612T081401Z
UID:3034-1707782400-1707868799@kgs-wichlinghauser-strasse.de
SUMMARY:Veilchendienstag (unterrichtsfrei)
DESCRIPTION:
URL:https://kgs-wichlinghauser-strasse.de/events/veilchendienstag-unterrichtsfrei-2
CATEGORIES:unterrichtsfrei
END:VEVENT
BEGIN:VEVENT
DTSTART;TZID=Europe/Berlin:20240214T100000
DTEND;TZID=Europe/Berlin:20240214T104500
DTSTAMP:20260422T192655
CREATED:20240123T111032Z
LAST-MODIFIED:20240123T111032Z
UID:3533-1707904800-1707907500@kgs-wichlinghauser-strasse.de
SUMMARY:Gottesdienst zu Aschermittwoch (Klassen 3 und 4)
DESCRIPTION:
URL:https://kgs-wichlinghauser-strasse.de/events/gottesdienst-zu-aschermittwoch-klassen-3-und-4-3
CATEGORIES:Veranstaltung
END:VEVENT
BEGIN:VEVENT
DTSTART;VALUE=DATE:20240219
DTEND;VALUE=DATE:20240224
DTSTAMP:20260422T192655
CREATED:20240123T111113Z
LAST-MODIFIED:20240123T111113Z
UID:3535-1708300800-1708732799@kgs-wichlinghauser-strasse.de
SUMMARY:"Offene KuVo-Woche" (Klassen 2 bis 4)
DESCRIPTION:
URL:https://kgs-wichlinghauser-strasse.de/events/offene-kuvo-woche-klassen-2-bis-4
CATEGORIES:Projekt
END:VEVENT
END:VCALENDAR