BEGIN:VCALENDAR
VERSION:2.0
PRODID:-//KGS Wichlinghauser Straße - ECPv6.15.20//NONSGML v1.0//EN
CALSCALE:GREGORIAN
METHOD:PUBLISH
X-ORIGINAL-URL:https://kgs-wichlinghauser-strasse.de
X-WR-CALDESC:Veranstaltungen für KGS Wichlinghauser Straße
REFRESH-INTERVAL;VALUE=DURATION:PT1H
X-Robots-Tag:noindex
X-PUBLISHED-TTL:PT1H
BEGIN:VTIMEZONE
TZID:Europe/Berlin
BEGIN:DAYLIGHT
TZOFFSETFROM:+0100
TZOFFSETTO:+0200
TZNAME:CEST
DTSTART:20230326T010000
END:DAYLIGHT
BEGIN:STANDARD
TZOFFSETFROM:+0200
TZOFFSETTO:+0100
TZNAME:CET
DTSTART:20231029T010000
END:STANDARD
BEGIN:DAYLIGHT
TZOFFSETFROM:+0100
TZOFFSETTO:+0200
TZNAME:CEST
DTSTART:20240331T010000
END:DAYLIGHT
BEGIN:STANDARD
TZOFFSETFROM:+0200
TZOFFSETTO:+0100
TZNAME:CET
DTSTART:20241027T010000
END:STANDARD
BEGIN:DAYLIGHT
TZOFFSETFROM:+0100
TZOFFSETTO:+0200
TZNAME:CEST
DTSTART:20250330T010000
END:DAYLIGHT
BEGIN:STANDARD
TZOFFSETFROM:+0200
TZOFFSETTO:+0100
TZNAME:CET
DTSTART:20251026T010000
END:STANDARD
END:VTIMEZONE
BEGIN:VEVENT
DTSTART;VALUE=DATE:20240422
DTEND;VALUE=DATE:20240509
DTSTAMP:20260422T142235
CREATED:20240410T085120Z
LAST-MODIFIED:20240410T085120Z
UID:3646-1713744000-1715212799@kgs-wichlinghauser-strasse.de
SUMMARY:Elternsprechtage
DESCRIPTION:
URL:https://kgs-wichlinghauser-strasse.de/events/elternsprechtage-3
CATEGORIES:Termin
END:VEVENT
BEGIN:VEVENT
DTSTART;VALUE=DATE:20240502
DTEND;VALUE=DATE:20240503
DTSTAMP:20260422T142235
CREATED:20240416T102731Z
LAST-MODIFIED:20240416T102731Z
UID:3664-1714608000-1714694399@kgs-wichlinghauser-strasse.de
SUMMARY:Sparkassen-Cup der Wuppertaler Grundschulen (Schulmannschaft)
DESCRIPTION:
URL:https://kgs-wichlinghauser-strasse.de/events/sparkassen-cup-der-wuppertaler-grundschulen-schulmannschaft
CATEGORIES:Veranstaltung
END:VEVENT
BEGIN:VEVENT
DTSTART;VALUE=DATE:20240503
DTEND;VALUE=DATE:20240504
DTSTAMP:20260422T142235
CREATED:20240416T102701Z
LAST-MODIFIED:20240416T102701Z
UID:3662-1714694400-1714780799@kgs-wichlinghauser-strasse.de
SUMMARY:Bücheraktion (Klassen 4)
DESCRIPTION:
URL:https://kgs-wichlinghauser-strasse.de/events/buecheraktion-klassen-4-3
CATEGORIES:Termin
END:VEVENT
BEGIN:VEVENT
DTSTART;TZID=Europe/Berlin:20240506T115000
DTEND;TZID=Europe/Berlin:20240506T132000
DTSTAMP:20260422T142235
CREATED:20231202T140204Z
LAST-MODIFIED:20240416T102819Z
UID:3444-1714996200-1715001600@kgs-wichlinghauser-strasse.de
SUMMARY:Schülerparlament
DESCRIPTION:
URL:https://kgs-wichlinghauser-strasse.de/events/schuelerparlament-3
CATEGORIES:Veranstaltung
END:VEVENT
BEGIN:VEVENT
DTSTART;TZID=Europe/Berlin:20240507T183000
DTEND;TZID=Europe/Berlin:20240507T203000
DTSTAMP:20260422T142235
CREATED:20240416T102854Z
LAST-MODIFIED:20240416T102854Z
UID:3666-1715106600-1715113800@kgs-wichlinghauser-strasse.de
SUMMARY:Elternabend (Klassen 4)
DESCRIPTION:
URL:https://kgs-wichlinghauser-strasse.de/events/elternabend-klassen-4
CATEGORIES:Termin
END:VEVENT
BEGIN:VEVENT
DTSTART;VALUE=DATE:20240508
DTEND;VALUE=DATE:20240509
DTSTAMP:20260422T142235
CREATED:20240416T102926Z
LAST-MODIFIED:20240416T102934Z
UID:3668-1715126400-1715212799@kgs-wichlinghauser-strasse.de
SUMMARY:Besuch von der Verbraucherzentrale (Klassen 3)
DESCRIPTION:
URL:https://kgs-wichlinghauser-strasse.de/events/besuch-von-der-verbraucherzentrale-klassen-3
CATEGORIES:Termin
END:VEVENT
BEGIN:VEVENT
DTSTART;VALUE=DATE:20240510
DTEND;VALUE=DATE:20240511
DTSTAMP:20260422T142235
CREATED:20230612T081424Z
LAST-MODIFIED:20230612T081424Z
UID:3036-1715299200-1715385599@kgs-wichlinghauser-strasse.de
SUMMARY:Brückentag nach Christi Himmelfahrt (unterrichtsfrei)
DESCRIPTION:
URL:https://kgs-wichlinghauser-strasse.de/events/brueckentag-nach-christi-himmelfahrt-unterrichtsfrei-2
CATEGORIES:unterrichtsfrei
END:VEVENT
BEGIN:VEVENT
DTSTART;VALUE=DATE:20240513
DTEND;VALUE=DATE:20240514
DTSTAMP:20260422T142235
CREATED:20240220T081834Z
LAST-MODIFIED:20240220T081834Z
UID:3593-1715558400-1715644799@kgs-wichlinghauser-strasse.de
SUMMARY:Ganztageskonferenz (kein Unterricht und keine Betreuung)
DESCRIPTION:
URL:https://kgs-wichlinghauser-strasse.de/events/ganztageskonferenz-kein-unterricht-und-keine-betreuung-4
CATEGORIES:unterrichtsfrei
END:VEVENT
BEGIN:VEVENT
DTSTART;VALUE=DATE:20240514
DTEND;VALUE=DATE:20240516
DTSTAMP:20260422T142235
CREATED:20231202T140035Z
LAST-MODIFIED:20231202T140042Z
UID:3440-1715644800-1715817599@kgs-wichlinghauser-strasse.de
SUMMARY:Projekt zur Sexualerziehung (Klassen 3)
DESCRIPTION:
URL:https://kgs-wichlinghauser-strasse.de/events/projekt-zur-sexualerziehung-klassen-3
CATEGORIES:Projekt
END:VEVENT
BEGIN:VEVENT
DTSTART;VALUE=DATE:20240514
DTEND;VALUE=DATE:20240517
DTSTAMP:20260422T142235
CREATED:20231202T140119Z
LAST-MODIFIED:20231202T140119Z
UID:3442-1715644800-1715903999@kgs-wichlinghauser-strasse.de
SUMMARY:Fahrradausbildung in der Verkehrswirklichkeit und Fußgängerralley (Klassen 4)
DESCRIPTION:
URL:https://kgs-wichlinghauser-strasse.de/events/fahrradausbildung-in-der-verkehrswirklichkeit-und-fussgaengerralley-klassen-4
CATEGORIES:Termin
END:VEVENT
BEGIN:VEVENT
DTSTART;VALUE=DATE:20240515
DTEND;VALUE=DATE:20240516
DTSTAMP:20260422T142235
CREATED:20240416T103004Z
LAST-MODIFIED:20240416T103004Z
UID:3670-1715731200-1715817599@kgs-wichlinghauser-strasse.de
SUMMARY:Ausflug zum "Hof Fahrenkrappe" (Klasse 1b)
DESCRIPTION:
URL:https://kgs-wichlinghauser-strasse.de/events/ausflug-zum-hof-fahrenkrappe-klasse-1b
CATEGORIES:Ausflug
END:VEVENT
BEGIN:VEVENT
DTSTART;VALUE=DATE:20240516
DTEND;VALUE=DATE:20240517
DTSTAMP:20260422T142235
CREATED:20240506T121955Z
LAST-MODIFIED:20240506T121955Z
UID:3733-1715817600-1715903999@kgs-wichlinghauser-strasse.de
SUMMARY:Ausflug zum "Hof Fahrenkrappe" (Klasse 2a)
DESCRIPTION:
URL:https://kgs-wichlinghauser-strasse.de/events/ausflug-zum-hof-fahrenkrappe-klasse-2a
CATEGORIES:Ausflug
END:VEVENT
BEGIN:VEVENT
DTSTART;VALUE=DATE:20240517
DTEND;VALUE=DATE:20240518
DTSTAMP:20260422T142235
CREATED:20240506T122040Z
LAST-MODIFIED:20240506T122040Z
UID:3735-1715904000-1715990399@kgs-wichlinghauser-strasse.de
SUMMARY:Besuch vom Wuppertaler Sinfonieorchester (Klassen 3)
DESCRIPTION:
URL:https://kgs-wichlinghauser-strasse.de/events/besuch-vom-wuppertaler-sinfonieorchester-klassen-3
CATEGORIES:Termin
END:VEVENT
BEGIN:VEVENT
DTSTART;TZID=Europe/Berlin:20240528T190000
DTEND;TZID=Europe/Berlin:20240528T210000
DTSTAMP:20260422T142235
CREATED:20240416T103034Z
LAST-MODIFIED:20240416T103034Z
UID:3672-1716922800-1716930000@kgs-wichlinghauser-strasse.de
SUMMARY:Schulkonferenz
DESCRIPTION:
URL:https://kgs-wichlinghauser-strasse.de/events/schulkonferenz-5
CATEGORIES:Veranstaltung
END:VEVENT
BEGIN:VEVENT
DTSTART;VALUE=DATE:20240531
DTEND;VALUE=DATE:20240601
DTSTAMP:20260422T142235
CREATED:20230612T081449Z
LAST-MODIFIED:20230612T081449Z
UID:3038-1717113600-1717199999@kgs-wichlinghauser-strasse.de
SUMMARY:Brückentag nach Fronleichnam (unterrichtsfrei)
DESCRIPTION:
URL:https://kgs-wichlinghauser-strasse.de/events/brueckentag-nach-fronleichnam-unterrichtsfrei
CATEGORIES:unterrichtsfrei
END:VEVENT
END:VCALENDAR