BEGIN:VCALENDAR
VERSION:2.0
PRODID:-//KGS Wichlinghauser Straße - ECPv6.15.20//NONSGML v1.0//EN
CALSCALE:GREGORIAN
METHOD:PUBLISH
X-ORIGINAL-URL:https://kgs-wichlinghauser-strasse.de
X-WR-CALDESC:Veranstaltungen für KGS Wichlinghauser Straße
REFRESH-INTERVAL;VALUE=DURATION:PT1H
X-Robots-Tag:noindex
X-PUBLISHED-TTL:PT1H
BEGIN:VTIMEZONE
TZID:Europe/Berlin
BEGIN:DAYLIGHT
TZOFFSETFROM:+0100
TZOFFSETTO:+0200
TZNAME:CEST
DTSTART:20230326T010000
END:DAYLIGHT
BEGIN:STANDARD
TZOFFSETFROM:+0200
TZOFFSETTO:+0100
TZNAME:CET
DTSTART:20231029T010000
END:STANDARD
BEGIN:DAYLIGHT
TZOFFSETFROM:+0100
TZOFFSETTO:+0200
TZNAME:CEST
DTSTART:20240331T010000
END:DAYLIGHT
BEGIN:STANDARD
TZOFFSETFROM:+0200
TZOFFSETTO:+0100
TZNAME:CET
DTSTART:20241027T010000
END:STANDARD
BEGIN:DAYLIGHT
TZOFFSETFROM:+0100
TZOFFSETTO:+0200
TZNAME:CEST
DTSTART:20250330T010000
END:DAYLIGHT
BEGIN:STANDARD
TZOFFSETFROM:+0200
TZOFFSETTO:+0100
TZNAME:CET
DTSTART:20251026T010000
END:STANDARD
END:VTIMEZONE
BEGIN:VEVENT
DTSTART;TZID=Europe/Berlin:20240903T183000
DTEND;TZID=Europe/Berlin:20240903T200000
DTSTAMP:20260420T073151
CREATED:20240618T113748Z
LAST-MODIFIED:20240618T113748Z
UID:3867-1725388200-1725393600@kgs-wichlinghauser-strasse.de
SUMMARY:Informationen zu den weiterführenden Schulen\, anschl. Elternabend (Klassen 4)
DESCRIPTION:
URL:https://kgs-wichlinghauser-strasse.de/events/informationen-zu-den-weiterfuehrenden-schulen-anschl-elternabend-klassen-4
CATEGORIES:Veranstaltung
END:VEVENT
BEGIN:VEVENT
DTSTART;VALUE=DATE:20240904
DTEND;VALUE=DATE:20240905
DTSTAMP:20260420T073151
CREATED:20240618T113850Z
LAST-MODIFIED:20240618T113850Z
UID:3871-1725408000-1725494399@kgs-wichlinghauser-strasse.de
SUMMARY:Schulumfeldbegehung mit der Polizei (Klassen 1)
DESCRIPTION:
URL:https://kgs-wichlinghauser-strasse.de/events/schulumfeldbegehung-mit-der-polizei-klassen-1
CATEGORIES:Termin
END:VEVENT
BEGIN:VEVENT
DTSTART;TZID=Europe/Berlin:20240904T190000
DTEND;TZID=Europe/Berlin:20240904T203000
DTSTAMP:20260420T073151
CREATED:20240618T113817Z
LAST-MODIFIED:20240618T113817Z
UID:3869-1725476400-1725481800@kgs-wichlinghauser-strasse.de
SUMMARY:Elternabend (Klassen 1)
DESCRIPTION:
URL:https://kgs-wichlinghauser-strasse.de/events/elternabend-klassen-1-3
CATEGORIES:Veranstaltung
END:VEVENT
BEGIN:VEVENT
DTSTART;VALUE=DATE:20240905
DTEND;VALUE=DATE:20240906
DTSTAMP:20260420T073151
CREATED:20240618T113905Z
LAST-MODIFIED:20240618T113905Z
UID:3873-1725494400-1725580799@kgs-wichlinghauser-strasse.de
SUMMARY:Schulumfeldbegehung mit der Polizei (Klassen 1)
DESCRIPTION:
URL:https://kgs-wichlinghauser-strasse.de/events/schulumfeldbegehung-mit-der-polizei-klassen-1-2
CATEGORIES:Termin
END:VEVENT
BEGIN:VEVENT
DTSTART;TZID=Europe/Berlin:20240905T193000
DTEND;TZID=Europe/Berlin:20240905T210000
DTSTAMP:20260420T073151
CREATED:20240618T113951Z
LAST-MODIFIED:20240618T113951Z
UID:3877-1725564600-1725570000@kgs-wichlinghauser-strasse.de
SUMMARY:Elternabend (Klassen 2)
DESCRIPTION:
URL:https://kgs-wichlinghauser-strasse.de/events/elternabend-klassen-2-4
CATEGORIES:Veranstaltung
END:VEVENT
BEGIN:VEVENT
DTSTART;VALUE=DATE:20240912
DTEND;VALUE=DATE:20240913
DTSTAMP:20260420T073151
CREATED:20240618T113923Z
LAST-MODIFIED:20240618T113923Z
UID:3875-1726099200-1726185599@kgs-wichlinghauser-strasse.de
SUMMARY:Schulumfeldbegehung mit der Polizei (Klassen 1)
DESCRIPTION:
URL:https://kgs-wichlinghauser-strasse.de/events/schulumfeldbegehung-mit-der-polizei-klassen-1-3
CATEGORIES:Termin
END:VEVENT
BEGIN:VEVENT
DTSTART;TZID=Europe/Berlin:20240912T101500
DTEND;TZID=Europe/Berlin:20240912T113000
DTSTAMP:20260420T073151
CREATED:20240618T114043Z
LAST-MODIFIED:20240618T114043Z
UID:3879-1726136100-1726140600@kgs-wichlinghauser-strasse.de
SUMMARY:"Tag der offenen Türen" für die Eltern der Lernanfänger 2025/26
DESCRIPTION:
URL:https://kgs-wichlinghauser-strasse.de/events/tag-der-offenen-tueren-fuer-die-eltern-der-lernanfaenger-2025-26
CATEGORIES:Veranstaltung
END:VEVENT
BEGIN:VEVENT
DTSTART;TZID=Europe/Berlin:20240919T180000
DTEND;TZID=Europe/Berlin:20240919T190000
DTSTAMP:20260420T073151
CREATED:20240618T114117Z
LAST-MODIFIED:20240618T114131Z
UID:3881-1726768800-1726772400@kgs-wichlinghauser-strasse.de
SUMMARY:Schulpflegschaftssitzung
DESCRIPTION:
URL:https://kgs-wichlinghauser-strasse.de/events/schulpflegschaftssitzung
CATEGORIES:Veranstaltung
END:VEVENT
BEGIN:VEVENT
DTSTART;TZID=Europe/Berlin:20240919T190000
DTEND;TZID=Europe/Berlin:20240919T203000
DTSTAMP:20260420T073151
CREATED:20240618T114155Z
LAST-MODIFIED:20240618T114155Z
UID:3883-1726772400-1726777800@kgs-wichlinghauser-strasse.de
SUMMARY:Schulkonferenz
DESCRIPTION:
URL:https://kgs-wichlinghauser-strasse.de/events/schulkonferenz-4
CATEGORIES:Veranstaltung
END:VEVENT
BEGIN:VEVENT
DTSTART;VALUE=DATE:20240923
DTEND;VALUE=DATE:20240927
DTSTAMP:20260420T073151
CREATED:20240618T114230Z
LAST-MODIFIED:20240618T114230Z
UID:3885-1727049600-1727395199@kgs-wichlinghauser-strasse.de
SUMMARY:Anmeldung der Lernanfänger 2025/26 (nur nach vorheriger telefonischer Anmeldung!)
DESCRIPTION:
URL:https://kgs-wichlinghauser-strasse.de/events/anmeldung-der-lernanfaenger-2025-26-nur-nach-vorheriger-telefonischer-anmeldung
CATEGORIES:Termin
END:VEVENT
BEGIN:VEVENT
DTSTART;VALUE=DATE:20240926
DTEND;VALUE=DATE:20240927
DTSTAMP:20260420T073151
CREATED:20240618T114315Z
LAST-MODIFIED:20240618T114315Z
UID:3887-1727308800-1727395199@kgs-wichlinghauser-strasse.de
SUMMARY:"Girls-Cup" Fußballturnier der Wuppertaler Grundschulen
DESCRIPTION:
URL:https://kgs-wichlinghauser-strasse.de/events/girls-cup-fussballturnier-der-wuppertaler-grundschulen
CATEGORIES:Veranstaltung
END:VEVENT
BEGIN:VEVENT
DTSTART;VALUE=DATE:20240930
DTEND;VALUE=DATE:20241001
DTSTAMP:20260420T073151
CREATED:20240618T114342Z
LAST-MODIFIED:20240618T114342Z
UID:3889-1727654400-1727740799@kgs-wichlinghauser-strasse.de
SUMMARY:Fahrradausbildung in der Jugendverkehrsschule (Klassen 4)
DESCRIPTION:
URL:https://kgs-wichlinghauser-strasse.de/events/fahrradausbildung-in-der-jugendverkehrsschule-klassen-4-3
CATEGORIES:Veranstaltung
END:VEVENT
END:VCALENDAR