BEGIN:VCALENDAR
VERSION:2.0
PRODID:-//KGS Wichlinghauser Straße - ECPv6.15.20//NONSGML v1.0//EN
CALSCALE:GREGORIAN
METHOD:PUBLISH
X-WR-CALNAME:KGS Wichlinghauser Straße
X-ORIGINAL-URL:https://kgs-wichlinghauser-strasse.de
X-WR-CALDESC:Veranstaltungen für KGS Wichlinghauser Straße
REFRESH-INTERVAL;VALUE=DURATION:PT1H
X-Robots-Tag:noindex
X-PUBLISHED-TTL:PT1H
BEGIN:VTIMEZONE
TZID:Europe/Berlin
BEGIN:DAYLIGHT
TZOFFSETFROM:+0100
TZOFFSETTO:+0200
TZNAME:CEST
DTSTART:20230326T010000
END:DAYLIGHT
BEGIN:STANDARD
TZOFFSETFROM:+0200
TZOFFSETTO:+0100
TZNAME:CET
DTSTART:20231029T010000
END:STANDARD
BEGIN:DAYLIGHT
TZOFFSETFROM:+0100
TZOFFSETTO:+0200
TZNAME:CEST
DTSTART:20240331T010000
END:DAYLIGHT
BEGIN:STANDARD
TZOFFSETFROM:+0200
TZOFFSETTO:+0100
TZNAME:CET
DTSTART:20241027T010000
END:STANDARD
BEGIN:DAYLIGHT
TZOFFSETFROM:+0100
TZOFFSETTO:+0200
TZNAME:CEST
DTSTART:20250330T010000
END:DAYLIGHT
BEGIN:STANDARD
TZOFFSETFROM:+0200
TZOFFSETTO:+0100
TZNAME:CET
DTSTART:20251026T010000
END:STANDARD
END:VTIMEZONE
BEGIN:VEVENT
DTSTART;VALUE=DATE:20241105
DTEND;VALUE=DATE:20241108
DTSTAMP:20260420T041257
CREATED:20241009T160720Z
LAST-MODIFIED:20241009T160720Z
UID:4086-1730764800-1731023999@kgs-wichlinghauser-strasse.de
SUMMARY:Theaterworkshop der Klasse 1a (ganztägig)
DESCRIPTION:
URL:https://kgs-wichlinghauser-strasse.de/events/theaterworkshop-der-klasse-1a-ganztaegig
CATEGORIES:Projekt
END:VEVENT
BEGIN:VEVENT
DTSTART;TZID=Europe/Berlin:20241105T080000
DTEND;TZID=Europe/Berlin:20241105T084500
DTSTAMP:20260420T041257
CREATED:20240620T124037Z
LAST-MODIFIED:20240620T124037Z
UID:3899-1730793600-1730796300@kgs-wichlinghauser-strasse.de
SUMMARY:Martinsgottesdienst (Klassen 1 und 2)
DESCRIPTION:
URL:https://kgs-wichlinghauser-strasse.de/events/martinsgottesdienst-klassen-1-und-2-2
CATEGORIES:Veranstaltung
END:VEVENT
BEGIN:VEVENT
DTSTART;TZID=Europe/Berlin:20241105T190000
DTEND;TZID=Europe/Berlin:20241105T203000
DTSTAMP:20260420T041257
CREATED:20240620T124121Z
LAST-MODIFIED:20240620T124121Z
UID:3901-1730833200-1730838600@kgs-wichlinghauser-strasse.de
SUMMARY:Schulvereinssitzung
DESCRIPTION:
URL:https://kgs-wichlinghauser-strasse.de/events/schulvereinssitzung-2
CATEGORIES:Termin
END:VEVENT
BEGIN:VEVENT
DTSTART;TZID=Europe/Berlin:20241107T100000
DTEND;TZID=Europe/Berlin:20241107T110000
DTSTAMP:20260420T041257
CREATED:20241009T160829Z
LAST-MODIFIED:20241009T160829Z
UID:4090-1730973600-1730977200@kgs-wichlinghauser-strasse.de
SUMMARY:Aufführung (Klasse 1a)
DESCRIPTION:
URL:https://kgs-wichlinghauser-strasse.de/events/auffuehrung-klasse-1a
CATEGORIES:Veranstaltung
END:VEVENT
BEGIN:VEVENT
DTSTART;TZID=Europe/Berlin:20241108T091500
DTEND;TZID=Europe/Berlin:20241108T101500
DTSTAMP:20260420T041257
CREATED:20240620T124010Z
LAST-MODIFIED:20241030T101156Z
UID:3897-1731057300-1731060900@kgs-wichlinghauser-strasse.de
SUMMARY:Martinssingen
DESCRIPTION:
URL:https://kgs-wichlinghauser-strasse.de/events/martinssingen
CATEGORIES:Veranstaltung
END:VEVENT
BEGIN:VEVENT
DTSTART;TZID=Europe/Berlin:20241109T110000
DTEND;TZID=Europe/Berlin:20241109T130000
DTSTAMP:20260420T041257
CREATED:20241030T101235Z
LAST-MODIFIED:20241030T101235Z
UID:4099-1731150000-1731157200@kgs-wichlinghauser-strasse.de
SUMMARY:175 Jahre CVJM Oberbarmen
DESCRIPTION:
URL:https://kgs-wichlinghauser-strasse.de/events/175-jahre-cvjm-oberbarmen
CATEGORIES:Veranstaltung
END:VEVENT
BEGIN:VEVENT
DTSTART;TZID=Europe/Berlin:20241110T173000
DTEND;TZID=Europe/Berlin:20241110T190000
DTSTAMP:20260420T041257
CREATED:20240620T124152Z
LAST-MODIFIED:20240620T124152Z
UID:3903-1731259800-1731265200@kgs-wichlinghauser-strasse.de
SUMMARY:Martinszug
DESCRIPTION:
URL:https://kgs-wichlinghauser-strasse.de/events/martinszug
CATEGORIES:Veranstaltung
END:VEVENT
BEGIN:VEVENT
DTSTART;VALUE=DATE:20241112
DTEND;VALUE=DATE:20241115
DTSTAMP:20260420T041257
CREATED:20241009T160745Z
LAST-MODIFIED:20241009T160745Z
UID:4088-1731369600-1731628799@kgs-wichlinghauser-strasse.de
SUMMARY:Theaterworkshop der Klasse 1a (ganztägig)
DESCRIPTION:
URL:https://kgs-wichlinghauser-strasse.de/events/theaterworkshop-der-klasse-1a-ganztaegig-2
CATEGORIES:Projekt
END:VEVENT
BEGIN:VEVENT
DTSTART;VALUE=DATE:20241113
DTEND;VALUE=DATE:20241114
DTSTAMP:20260420T041257
CREATED:20241009T160926Z
LAST-MODIFIED:20241009T160926Z
UID:4095-1731456000-1731542399@kgs-wichlinghauser-strasse.de
SUMMARY:Internationaler Vorlesetag
DESCRIPTION:
URL:https://kgs-wichlinghauser-strasse.de/events/internationaler-vorlesetag
CATEGORIES:Termin
END:VEVENT
BEGIN:VEVENT
DTSTART;VALUE=DATE:20241113
DTEND;VALUE=DATE:20241114
DTSTAMP:20260420T041257
CREATED:20241030T101321Z
LAST-MODIFIED:20241030T110438Z
UID:4101-1731456000-1731542399@kgs-wichlinghauser-strasse.de
SUMMARY:keine Betreuung im Cevi wegen Streiks
DESCRIPTION:
URL:https://kgs-wichlinghauser-strasse.de/events/keine-betreuung-wegen-streiks
CATEGORIES:Termin
END:VEVENT
BEGIN:VEVENT
DTSTART;TZID=Europe/Berlin:20241114T100000
DTEND;TZID=Europe/Berlin:20241114T110000
DTSTAMP:20260420T041257
CREATED:20241009T160855Z
LAST-MODIFIED:20241009T160855Z
UID:4093-1731578400-1731582000@kgs-wichlinghauser-strasse.de
SUMMARY:Aufführung (Klasse 1a)
DESCRIPTION:
URL:https://kgs-wichlinghauser-strasse.de/events/auffuehrung-klasse-1a-2
CATEGORIES:Veranstaltung
END:VEVENT
BEGIN:VEVENT
DTSTART;VALUE=DATE:20241119
DTEND;VALUE=DATE:20241120
DTSTAMP:20260420T041257
CREATED:20240620T124215Z
LAST-MODIFIED:20240620T124215Z
UID:3905-1731974400-1732060799@kgs-wichlinghauser-strasse.de
SUMMARY:Fahrradausbildung in der Jugendverkehrsschule (Klassen 4)
DESCRIPTION:
URL:https://kgs-wichlinghauser-strasse.de/events/fahrradausbildung-in-der-jugendverkehrsschule-klassen-4-4
CATEGORIES:Termin
END:VEVENT
BEGIN:VEVENT
DTSTART;VALUE=DATE:20241121
DTEND;VALUE=DATE:20241122
DTSTAMP:20260420T041257
CREATED:20241030T101340Z
LAST-MODIFIED:20241030T101340Z
UID:4103-1732147200-1732233599@kgs-wichlinghauser-strasse.de
SUMMARY:Ausflug der Klasse 1a
DESCRIPTION:
URL:https://kgs-wichlinghauser-strasse.de/events/ausflug-der-klasse-1a
CATEGORIES:Ausflug
END:VEVENT
BEGIN:VEVENT
DTSTART;VALUE=DATE:20241125
DTEND;VALUE=DATE:20241126
DTSTAMP:20260420T041257
CREATED:20240620T124244Z
LAST-MODIFIED:20241119T115547Z
UID:3907-1732492800-1732579199@kgs-wichlinghauser-strasse.de
SUMMARY:Ganztageskonferenz (kein Unterricht)
DESCRIPTION:
URL:https://kgs-wichlinghauser-strasse.de/events/ganztageskonferenz-kein-unterricht-und-keine-betreuung-5
CATEGORIES:Termin,unterrichtsfrei
END:VEVENT
BEGIN:VEVENT
DTSTART;VALUE=DATE:20241126
DTEND;VALUE=DATE:20241207
DTSTAMP:20260420T041257
CREATED:20241009T161003Z
LAST-MODIFIED:20241009T161003Z
UID:4097-1732579200-1733529599@kgs-wichlinghauser-strasse.de
SUMMARY:Elternsprechtage
DESCRIPTION:
URL:https://kgs-wichlinghauser-strasse.de/events/elternsprechtage-4
CATEGORIES:Termin
END:VEVENT
BEGIN:VEVENT
DTSTART;TZID=Europe/Berlin:20241128T080000
DTEND;TZID=Europe/Berlin:20241128T081500
DTSTAMP:20260420T041257
CREATED:20240620T124338Z
LAST-MODIFIED:20241119T115656Z
UID:3909-1732780800-1732781700@kgs-wichlinghauser-strasse.de
SUMMARY:Adventssingen
DESCRIPTION:
URL:https://kgs-wichlinghauser-strasse.de/events/adventssingen-4
CATEGORIES:Veranstaltung
END:VEVENT
END:VCALENDAR