BEGIN:VCALENDAR
VERSION:2.0
PRODID:-//KGS Wichlinghauser Straße - ECPv6.15.20//NONSGML v1.0//EN
CALSCALE:GREGORIAN
METHOD:PUBLISH
X-WR-CALNAME:KGS Wichlinghauser Straße
X-ORIGINAL-URL:https://kgs-wichlinghauser-strasse.de
X-WR-CALDESC:Veranstaltungen für KGS Wichlinghauser Straße
REFRESH-INTERVAL;VALUE=DURATION:PT1H
X-Robots-Tag:noindex
X-PUBLISHED-TTL:PT1H
BEGIN:VTIMEZONE
TZID:Europe/Berlin
BEGIN:DAYLIGHT
TZOFFSETFROM:+0100
TZOFFSETTO:+0200
TZNAME:CEST
DTSTART:20240331T010000
END:DAYLIGHT
BEGIN:STANDARD
TZOFFSETFROM:+0200
TZOFFSETTO:+0100
TZNAME:CET
DTSTART:20241027T010000
END:STANDARD
BEGIN:DAYLIGHT
TZOFFSETFROM:+0100
TZOFFSETTO:+0200
TZNAME:CEST
DTSTART:20250330T010000
END:DAYLIGHT
BEGIN:STANDARD
TZOFFSETFROM:+0200
TZOFFSETTO:+0100
TZNAME:CET
DTSTART:20251026T010000
END:STANDARD
BEGIN:DAYLIGHT
TZOFFSETFROM:+0100
TZOFFSETTO:+0200
TZNAME:CEST
DTSTART:20260329T010000
END:DAYLIGHT
BEGIN:STANDARD
TZOFFSETFROM:+0200
TZOFFSETTO:+0100
TZNAME:CET
DTSTART:20261025T010000
END:STANDARD
END:VTIMEZONE
BEGIN:VEVENT
DTSTART;VALUE=DATE:20250107
DTEND;VALUE=DATE:20250301
DTSTAMP:20260420T005157
CREATED:20250108T155615Z
LAST-MODIFIED:20250108T155615Z
UID:4185-1736208000-1740787199@kgs-wichlinghauser-strasse.de
SUMMARY:Projekt zur Ich-Stärkung und gegen Rassismus "Weil wir es können!" (Klassen 4)
DESCRIPTION:
URL:https://kgs-wichlinghauser-strasse.de/events/projekt-zur-ich-staerkung-und-gegen-rassismus-weil-wir-es-koennen-klassen-4
CATEGORIES:Projekt
END:VEVENT
BEGIN:VEVENT
DTSTART;VALUE=DATE:20250114
DTEND;VALUE=DATE:20250115
DTSTAMP:20260420T005157
CREATED:20250108T155644Z
LAST-MODIFIED:20250108T155644Z
UID:4187-1736812800-1736899199@kgs-wichlinghauser-strasse.de
SUMMARY:Fahrradtraining in der Skaterhalle (Klassen 3)
DESCRIPTION:
URL:https://kgs-wichlinghauser-strasse.de/events/fahrradtraining-in-der-skaterhalle-klassen-3
CATEGORIES:Termin
END:VEVENT
BEGIN:VEVENT
DTSTART;VALUE=DATE:20250117
DTEND;VALUE=DATE:20250118
DTSTAMP:20260420T005157
CREATED:20250108T155658Z
LAST-MODIFIED:20250108T155658Z
UID:4189-1737072000-1737158399@kgs-wichlinghauser-strasse.de
SUMMARY:Fahrradtraining in der Skaterhalle (Klassen 3)
DESCRIPTION:
URL:https://kgs-wichlinghauser-strasse.de/events/fahrradtraining-in-der-skaterhalle-klassen-3-2
CATEGORIES:Termin
END:VEVENT
BEGIN:VEVENT
DTSTART;VALUE=DATE:20250124
DTEND;VALUE=DATE:20250125
DTSTAMP:20260420T005157
CREATED:20250108T155716Z
LAST-MODIFIED:20250108T155716Z
UID:4191-1737676800-1737763199@kgs-wichlinghauser-strasse.de
SUMMARY:Ausflug zum Klettern (Klasse 2a)
DESCRIPTION:
URL:https://kgs-wichlinghauser-strasse.de/events/ausflug-zum-klettern-klasse-2a
CATEGORIES:Ausflug
END:VEVENT
END:VCALENDAR