BEGIN:VCALENDAR
VERSION:2.0
PRODID:-//KGS Wichlinghauser Straße - ECPv6.15.20//NONSGML v1.0//EN
CALSCALE:GREGORIAN
METHOD:PUBLISH
X-ORIGINAL-URL:https://kgs-wichlinghauser-strasse.de
X-WR-CALDESC:Veranstaltungen für KGS Wichlinghauser Straße
REFRESH-INTERVAL;VALUE=DURATION:PT1H
X-Robots-Tag:noindex
X-PUBLISHED-TTL:PT1H
BEGIN:VTIMEZONE
TZID:Europe/Berlin
BEGIN:DAYLIGHT
TZOFFSETFROM:+0100
TZOFFSETTO:+0200
TZNAME:CEST
DTSTART:20240331T010000
END:DAYLIGHT
BEGIN:STANDARD
TZOFFSETFROM:+0200
TZOFFSETTO:+0100
TZNAME:CET
DTSTART:20241027T010000
END:STANDARD
BEGIN:DAYLIGHT
TZOFFSETFROM:+0100
TZOFFSETTO:+0200
TZNAME:CEST
DTSTART:20250330T010000
END:DAYLIGHT
BEGIN:STANDARD
TZOFFSETFROM:+0200
TZOFFSETTO:+0100
TZNAME:CET
DTSTART:20251026T010000
END:STANDARD
BEGIN:DAYLIGHT
TZOFFSETFROM:+0100
TZOFFSETTO:+0200
TZNAME:CEST
DTSTART:20260329T010000
END:DAYLIGHT
BEGIN:STANDARD
TZOFFSETFROM:+0200
TZOFFSETTO:+0100
TZNAME:CET
DTSTART:20261025T010000
END:STANDARD
END:VTIMEZONE
BEGIN:VEVENT
DTSTART;VALUE=DATE:20250303
DTEND;VALUE=DATE:20250304
DTSTAMP:20260419T212949
CREATED:20240620T124711Z
LAST-MODIFIED:20240620T125313Z
UID:3924-1740960000-1741046399@kgs-wichlinghauser-strasse.de
SUMMARY:beweglicher Ferientag - Rosenmontag (kein Unterricht und keine Betreuung)
DESCRIPTION:
URL:https://kgs-wichlinghauser-strasse.de/events/beweglicher-ferientag-kein-unterricht-und-keine-betreuung
CATEGORIES:unterrichtsfrei
END:VEVENT
BEGIN:VEVENT
DTSTART;VALUE=DATE:20250304
DTEND;VALUE=DATE:20250305
DTSTAMP:20260419T212949
CREATED:20240620T124727Z
LAST-MODIFIED:20240620T125335Z
UID:3926-1741046400-1741132799@kgs-wichlinghauser-strasse.de
SUMMARY:beweglicher Ferientag - Veilchendienstag (kein Unterricht und keine Betreuung)
DESCRIPTION:
URL:https://kgs-wichlinghauser-strasse.de/events/beweglicher-ferientag-kein-unterricht-und-keine-betreuung-2
CATEGORIES:unterrichtsfrei
END:VEVENT
BEGIN:VEVENT
DTSTART;VALUE=DATE:20250311
DTEND;VALUE=DATE:20250312
DTSTAMP:20260419T212949
CREATED:20250217T103956Z
LAST-MODIFIED:20250217T103956Z
UID:4372-1741651200-1741737599@kgs-wichlinghauser-strasse.de
SUMMARY:Besuch des Schwebodroms (4a und 4b)
DESCRIPTION:
URL:https://kgs-wichlinghauser-strasse.de/events/besuch-des-schwebodroms-4a-und-4b
CATEGORIES:Ausflug
END:VEVENT
BEGIN:VEVENT
DTSTART;VALUE=DATE:20250313
DTEND;VALUE=DATE:20250314
DTSTAMP:20260419T212949
CREATED:20250217T104015Z
LAST-MODIFIED:20250217T104015Z
UID:4375-1741824000-1741910399@kgs-wichlinghauser-strasse.de
SUMMARY:Besuch des Schwebodroms (4c)
DESCRIPTION:
URL:https://kgs-wichlinghauser-strasse.de/events/besuch-des-schwebodroms-4c
CATEGORIES:Ausflug
END:VEVENT
BEGIN:VEVENT
DTSTART;VALUE=DATE:20250319
DTEND;VALUE=DATE:20250320
DTSTAMP:20260419T212949
CREATED:20250108T155742Z
LAST-MODIFIED:20250217T104157Z
UID:4193-1742342400-1742428799@kgs-wichlinghauser-strasse.de
SUMMARY:Besuch des Schulkonzertes (Karneval der Tiere) der Wuppertaler Sinfoniker in der Stadthalle (3a\, 3b\, 3c)
DESCRIPTION:
URL:https://kgs-wichlinghauser-strasse.de/events/besuch-des-schulkonzertes-der-wuppertaler-sinfoniker-klassen-3
CATEGORIES:Ausflug
END:VEVENT
BEGIN:VEVENT
DTSTART;TZID=Europe/Berlin:20250319T093000
DTEND;TZID=Europe/Berlin:20250319T110000
DTSTAMP:20260419T212949
CREATED:20250127T113753Z
LAST-MODIFIED:20250129T141420Z
UID:4226-1742376600-1742382000@kgs-wichlinghauser-strasse.de
SUMMARY:Besuch der Stadtteilbibliothek - Robotikführung (Klasse 2c)
DESCRIPTION:
URL:https://kgs-wichlinghauser-strasse.de/events/besuch-der-stadtteilbibliothek-klasse-2c
CATEGORIES:Ausflug
END:VEVENT
BEGIN:VEVENT
DTSTART;VALUE=DATE:20250324
DTEND;VALUE=DATE:20250325
DTSTAMP:20260419T212949
CREATED:20240620T124755Z
LAST-MODIFIED:20240620T124755Z
UID:3928-1742774400-1742860799@kgs-wichlinghauser-strasse.de
SUMMARY:Ganztageskonferenz (kein Unterricht und keine Betreuung)
DESCRIPTION:
URL:https://kgs-wichlinghauser-strasse.de/events/ganztageskonferenz-kein-unterricht-und-keine-betreuung-6
CATEGORIES:Termin,unterrichtsfrei
END:VEVENT
BEGIN:VEVENT
DTSTART;VALUE=DATE:20250325
DTEND;VALUE=DATE:20250326
DTSTAMP:20260419T212949
CREATED:20250217T104254Z
LAST-MODIFIED:20250217T111737Z
UID:4378-1742860800-1742947199@kgs-wichlinghauser-strasse.de
SUMMARY:Projekt Esperanza - Sexualerziehung mit dem Caritas Solingen-Wuppertal (4a)
DESCRIPTION:
URL:https://kgs-wichlinghauser-strasse.de/events/projekt-esperanza-4a
CATEGORIES:Projekt
END:VEVENT
BEGIN:VEVENT
DTSTART;VALUE=DATE:20250326
DTEND;VALUE=DATE:20250327
DTSTAMP:20260419T212949
CREATED:20250217T104319Z
LAST-MODIFIED:20250217T111727Z
UID:4381-1742947200-1743033599@kgs-wichlinghauser-strasse.de
SUMMARY:Projekt Esperanza - Sexualerziehung mit dem Caritas Solingen-Wuppertal (4b\, 4c)
DESCRIPTION:
URL:https://kgs-wichlinghauser-strasse.de/events/projekt-esperanza-4b-4c
CATEGORIES:Projekt
END:VEVENT
BEGIN:VEVENT
DTSTART;VALUE=DATE:20250327
DTEND;VALUE=DATE:20250328
DTSTAMP:20260419T212949
CREATED:20250320T190337Z
LAST-MODIFIED:20250320T190337Z
UID:4420-1743033600-1743119999@kgs-wichlinghauser-strasse.de
SUMMARY:Vorlesetag
DESCRIPTION:
URL:https://kgs-wichlinghauser-strasse.de/events/vorlesetag
CATEGORIES:Veranstaltung
END:VEVENT
BEGIN:VEVENT
DTSTART;VALUE=DATE:20250328
DTEND;VALUE=DATE:20250329
DTSTAMP:20260419T212949
CREATED:20250320T190411Z
LAST-MODIFIED:20250320T190411Z
UID:4422-1743120000-1743206399@kgs-wichlinghauser-strasse.de
SUMMARY:Besuch des Hofs Kotthausen (2a)
DESCRIPTION:
URL:https://kgs-wichlinghauser-strasse.de/events/besuch-des-hofs-kotthausen-2a
CATEGORIES:Ausflug
END:VEVENT
END:VCALENDAR