BEGIN:VCALENDAR
VERSION:2.0
PRODID:-//KGS Wichlinghauser Straße - ECPv6.15.20//NONSGML v1.0//EN
CALSCALE:GREGORIAN
METHOD:PUBLISH
X-ORIGINAL-URL:https://kgs-wichlinghauser-strasse.de
X-WR-CALDESC:Veranstaltungen für KGS Wichlinghauser Straße
REFRESH-INTERVAL;VALUE=DURATION:PT1H
X-Robots-Tag:noindex
X-PUBLISHED-TTL:PT1H
BEGIN:VTIMEZONE
TZID:Europe/Berlin
BEGIN:DAYLIGHT
TZOFFSETFROM:+0100
TZOFFSETTO:+0200
TZNAME:CEST
DTSTART:20240331T010000
END:DAYLIGHT
BEGIN:STANDARD
TZOFFSETFROM:+0200
TZOFFSETTO:+0100
TZNAME:CET
DTSTART:20241027T010000
END:STANDARD
BEGIN:DAYLIGHT
TZOFFSETFROM:+0100
TZOFFSETTO:+0200
TZNAME:CEST
DTSTART:20250330T010000
END:DAYLIGHT
BEGIN:STANDARD
TZOFFSETFROM:+0200
TZOFFSETTO:+0100
TZNAME:CET
DTSTART:20251026T010000
END:STANDARD
BEGIN:DAYLIGHT
TZOFFSETFROM:+0100
TZOFFSETTO:+0200
TZNAME:CEST
DTSTART:20260329T010000
END:DAYLIGHT
BEGIN:STANDARD
TZOFFSETFROM:+0200
TZOFFSETTO:+0100
TZNAME:CET
DTSTART:20261025T010000
END:STANDARD
END:VTIMEZONE
BEGIN:VEVENT
DTSTART;TZID=Europe/Berlin:20250403T183000
DTEND;TZID=Europe/Berlin:20250403T213000
DTSTAMP:20260419T194023
CREATED:20250108T155845Z
LAST-MODIFIED:20250108T155845Z
UID:4197-1743705000-1743715800@kgs-wichlinghauser-strasse.de
SUMMARY:Sitzung des  Schulvereins
DESCRIPTION:
URL:https://kgs-wichlinghauser-strasse.de/events/sitzung-des-schulvereins
CATEGORIES:Veranstaltung
END:VEVENT
BEGIN:VEVENT
DTSTART;VALUE=DATE:20250404
DTEND;VALUE=DATE:20250405
DTSTAMP:20260419T194023
CREATED:20250108T155918Z
LAST-MODIFIED:20250108T155918Z
UID:4199-1743724800-1743811199@kgs-wichlinghauser-strasse.de
SUMMARY:Ausflug zum Klettern (Klasse 2a)
DESCRIPTION:
URL:https://kgs-wichlinghauser-strasse.de/events/ausflug-zum-klettern-klasse-2a-2
CATEGORIES:Ausflug
END:VEVENT
BEGIN:VEVENT
DTSTART;VALUE=DATE:20250409
DTEND;VALUE=DATE:20250410
DTSTAMP:20260419T194023
CREATED:20250217T104711Z
LAST-MODIFIED:20250320T190517Z
UID:4383-1744156800-1744243199@kgs-wichlinghauser-strasse.de
SUMMARY:Besuch der Bücherei (2c)
DESCRIPTION:
URL:https://kgs-wichlinghauser-strasse.de/events/besuch-der-buecherei-2c
CATEGORIES:Ausflug
END:VEVENT
END:VCALENDAR