BEGIN:VCALENDAR
VERSION:2.0
PRODID:-//KGS Wichlinghauser Straße - ECPv6.15.20//NONSGML v1.0//EN
CALSCALE:GREGORIAN
METHOD:PUBLISH
X-WR-CALNAME:KGS Wichlinghauser Straße
X-ORIGINAL-URL:https://kgs-wichlinghauser-strasse.de
X-WR-CALDESC:Veranstaltungen für KGS Wichlinghauser Straße
REFRESH-INTERVAL;VALUE=DURATION:PT1H
X-Robots-Tag:noindex
X-PUBLISHED-TTL:PT1H
BEGIN:VTIMEZONE
TZID:Europe/Berlin
BEGIN:DAYLIGHT
TZOFFSETFROM:+0100
TZOFFSETTO:+0200
TZNAME:CEST
DTSTART:20240331T010000
END:DAYLIGHT
BEGIN:STANDARD
TZOFFSETFROM:+0200
TZOFFSETTO:+0100
TZNAME:CET
DTSTART:20241027T010000
END:STANDARD
BEGIN:DAYLIGHT
TZOFFSETFROM:+0100
TZOFFSETTO:+0200
TZNAME:CEST
DTSTART:20250330T010000
END:DAYLIGHT
BEGIN:STANDARD
TZOFFSETFROM:+0200
TZOFFSETTO:+0100
TZNAME:CET
DTSTART:20251026T010000
END:STANDARD
BEGIN:DAYLIGHT
TZOFFSETFROM:+0100
TZOFFSETTO:+0200
TZNAME:CEST
DTSTART:20260329T010000
END:DAYLIGHT
BEGIN:STANDARD
TZOFFSETFROM:+0200
TZOFFSETTO:+0100
TZNAME:CET
DTSTART:20261025T010000
END:STANDARD
END:VTIMEZONE
BEGIN:VEVENT
DTSTART;VALUE=DATE:20250502
DTEND;VALUE=DATE:20250503
DTSTAMP:20260419T180513
CREATED:20240620T124826Z
LAST-MODIFIED:20240620T125503Z
UID:3930-1746144000-1746230399@kgs-wichlinghauser-strasse.de
SUMMARY:beweglicher Ferientag - Brückentag nach dem 1. Mai (kein Unterricht und keine Betreuung)
DESCRIPTION:
URL:https://kgs-wichlinghauser-strasse.de/events/beweglicher-ferientag-brueckentag-nach-dem-1-mai
CATEGORIES:unterrichtsfrei
END:VEVENT
BEGIN:VEVENT
DTSTART;VALUE=DATE:20250506
DTEND;VALUE=DATE:20250507
DTSTAMP:20260419T180513
CREATED:20250108T160005Z
LAST-MODIFIED:20250108T160005Z
UID:4203-1746489600-1746575999@kgs-wichlinghauser-strasse.de
SUMMARY:Fußballturnier "Sparkassen-Cup" (Vorrunde)
DESCRIPTION:
URL:https://kgs-wichlinghauser-strasse.de/events/fussballturnier-sparkassen-cup-vorrunde
CATEGORIES:Termin
END:VEVENT
BEGIN:VEVENT
DTSTART;VALUE=DATE:20250509
DTEND;VALUE=DATE:20250510
DTSTAMP:20260419T180513
CREATED:20250503T102630Z
LAST-MODIFIED:20250503T102630Z
UID:4465-1746748800-1746835199@kgs-wichlinghauser-strasse.de
SUMMARY:Kartoffelprojekt Gut Halveshof (Klasse 2a)
DESCRIPTION:
URL:https://kgs-wichlinghauser-strasse.de/events/kartoffelprojekt-gut-halveshof-klasse-2a
CATEGORIES:Projekt
END:VEVENT
BEGIN:VEVENT
DTSTART;VALUE=DATE:20250514
DTEND;VALUE=DATE:20250515
DTSTAMP:20260419T180513
CREATED:20250108T160029Z
LAST-MODIFIED:20250108T160029Z
UID:4205-1747180800-1747267199@kgs-wichlinghauser-strasse.de
SUMMARY:Fußgängerralley (Klassen 4)
DESCRIPTION:
URL:https://kgs-wichlinghauser-strasse.de/events/fussgaengerralley-klassen-4
CATEGORIES:Veranstaltung
END:VEVENT
BEGIN:VEVENT
DTSTART;VALUE=DATE:20250515
DTEND;VALUE=DATE:20250516
DTSTAMP:20260419T180513
CREATED:20250108T160050Z
LAST-MODIFIED:20250108T160050Z
UID:4207-1747267200-1747353599@kgs-wichlinghauser-strasse.de
SUMMARY:Fahrradausbildung in der Verkehrswirklichkeit (Klassen 4)
DESCRIPTION:
URL:https://kgs-wichlinghauser-strasse.de/events/fahrradausbildung-in-der-verkehrswirklichkeit-klassen-4-2
CATEGORIES:Termin
END:VEVENT
BEGIN:VEVENT
DTSTART;VALUE=DATE:20250516
DTEND;VALUE=DATE:20250517
DTSTAMP:20260419T180513
CREATED:20250108T160117Z
LAST-MODIFIED:20250108T160117Z
UID:4209-1747353600-1747439999@kgs-wichlinghauser-strasse.de
SUMMARY:Besuch der Jugendverkehrsschule (Klassen 3)
DESCRIPTION:
URL:https://kgs-wichlinghauser-strasse.de/events/besuch-der-jugendverkehrsschule-klassen-3
CATEGORIES:Termin
END:VEVENT
BEGIN:VEVENT
DTSTART;VALUE=DATE:20250523
DTEND;VALUE=DATE:20250524
DTSTAMP:20260419T180513
CREATED:20250503T102833Z
LAST-MODIFIED:20250503T102833Z
UID:4475-1747958400-1748044799@kgs-wichlinghauser-strasse.de
SUMMARY:Bücherei Bob Campus (Klasse 2c)
DESCRIPTION:
URL:https://kgs-wichlinghauser-strasse.de/events/buecherei-bob-campus-klasse-2c
CATEGORIES:Termin
END:VEVENT
BEGIN:VEVENT
DTSTART;VALUE=DATE:20250528
DTEND;VALUE=DATE:20250529
DTSTAMP:20260419T180513
CREATED:20250503T102910Z
LAST-MODIFIED:20250503T102910Z
UID:4477-1748390400-1748476799@kgs-wichlinghauser-strasse.de
SUMMARY:Ausflug in den Zoo (Klassen 1a\, 1b\, 1c)
DESCRIPTION:
URL:https://kgs-wichlinghauser-strasse.de/events/ausflug-in-den-zoo-klassen-1a-1b-1c
CATEGORIES:Ausflug
END:VEVENT
BEGIN:VEVENT
DTSTART;VALUE=DATE:20250530
DTEND;VALUE=DATE:20250531
DTSTAMP:20260419T180513
CREATED:20240620T124847Z
LAST-MODIFIED:20240620T125447Z
UID:3932-1748563200-1748649599@kgs-wichlinghauser-strasse.de
SUMMARY:beweglicher Ferientag - Brückentag nach Christi Himmelfahrt (kein Unterricht und keine Betreuung)
DESCRIPTION:
URL:https://kgs-wichlinghauser-strasse.de/events/beweglicher-ferientag-brueckentag-nach-christi-himmelfahrt
CATEGORIES:unterrichtsfrei
END:VEVENT
END:VCALENDAR