BEGIN:VCALENDAR
VERSION:2.0
PRODID:-//KGS Wichlinghauser Straße - ECPv6.15.20//NONSGML v1.0//EN
CALSCALE:GREGORIAN
METHOD:PUBLISH
X-WR-CALNAME:KGS Wichlinghauser Straße
X-ORIGINAL-URL:https://kgs-wichlinghauser-strasse.de
X-WR-CALDESC:Veranstaltungen für KGS Wichlinghauser Straße
REFRESH-INTERVAL;VALUE=DURATION:PT1H
X-Robots-Tag:noindex
X-PUBLISHED-TTL:PT1H
BEGIN:VTIMEZONE
TZID:Europe/Berlin
BEGIN:DAYLIGHT
TZOFFSETFROM:+0100
TZOFFSETTO:+0200
TZNAME:CEST
DTSTART:20240331T010000
END:DAYLIGHT
BEGIN:STANDARD
TZOFFSETFROM:+0200
TZOFFSETTO:+0100
TZNAME:CET
DTSTART:20241027T010000
END:STANDARD
BEGIN:DAYLIGHT
TZOFFSETFROM:+0100
TZOFFSETTO:+0200
TZNAME:CEST
DTSTART:20250330T010000
END:DAYLIGHT
BEGIN:STANDARD
TZOFFSETFROM:+0200
TZOFFSETTO:+0100
TZNAME:CET
DTSTART:20251026T010000
END:STANDARD
BEGIN:DAYLIGHT
TZOFFSETFROM:+0100
TZOFFSETTO:+0200
TZNAME:CEST
DTSTART:20260329T010000
END:DAYLIGHT
BEGIN:STANDARD
TZOFFSETFROM:+0200
TZOFFSETTO:+0100
TZNAME:CET
DTSTART:20261025T010000
END:STANDARD
END:VTIMEZONE
BEGIN:VEVENT
DTSTART;VALUE=DATE:20250630
DTEND;VALUE=DATE:20250705
DTSTAMP:20260419T143818
CREATED:20250108T160211Z
LAST-MODIFIED:20250108T160211Z
UID:4213-1751241600-1751673599@kgs-wichlinghauser-strasse.de
SUMMARY:Schul-Schwimm-Woche (Klassen 4)
DESCRIPTION:
URL:https://kgs-wichlinghauser-strasse.de/events/schul-schwimm-woche-klassen-4-2
CATEGORIES:Veranstaltung
END:VEVENT
BEGIN:VEVENT
DTSTART;VALUE=DATE:20250704
DTEND;VALUE=DATE:20250705
DTSTAMP:20260419T143818
CREATED:20250108T155932Z
LAST-MODIFIED:20250108T155932Z
UID:4201-1751587200-1751673599@kgs-wichlinghauser-strasse.de
SUMMARY:Ausflug zum Klettern (Klasse 2a)
DESCRIPTION:
URL:https://kgs-wichlinghauser-strasse.de/events/ausflug-zum-klettern-klasse-2a-3
CATEGORIES:Ausflug
END:VEVENT
BEGIN:VEVENT
DTSTART;VALUE=DATE:20250708
DTEND;VALUE=DATE:20250709
DTSTAMP:20260419T143818
CREATED:20250108T160241Z
LAST-MODIFIED:20250108T160241Z
UID:4215-1751932800-1752019199@kgs-wichlinghauser-strasse.de
SUMMARY:Mini-WM (Klassen 1 und 2)
DESCRIPTION:
URL:https://kgs-wichlinghauser-strasse.de/events/mini-wm-klassen-1-und-2
CATEGORIES:Veranstaltung
END:VEVENT
BEGIN:VEVENT
DTSTART;VALUE=DATE:20250711
DTEND;VALUE=DATE:20250712
DTSTAMP:20260419T143818
CREATED:20250108T160316Z
LAST-MODIFIED:20250108T160316Z
UID:4217-1752192000-1752278399@kgs-wichlinghauser-strasse.de
SUMMARY:Letzter Schultag\, Unterrichtsschluss für alle Klassen um 10.45 Uhr
DESCRIPTION:
URL:https://kgs-wichlinghauser-strasse.de/events/letzter-schultag-unterrichtsschluss-fuer-alle-klassen-um-10-45-uhr
CATEGORIES:Termin
END:VEVENT
END:VCALENDAR